BEGIN:VCALENDAR
VERSION:2.0
PRODID:-//Undefinable Vision TV - ECPv6.15.17.1//NONSGML v1.0//EN
CALSCALE:GREGORIAN
METHOD:PUBLISH
X-ORIGINAL-URL:https://undefinablevision.com
X-WR-CALDESC:Events for Undefinable Vision TV
REFRESH-INTERVAL;VALUE=DURATION:PT1H
X-Robots-Tag:noindex
X-PUBLISHED-TTL:PT1H
BEGIN:VTIMEZONE
TZID:America/New_York
BEGIN:DAYLIGHT
TZOFFSETFROM:-0500
TZOFFSETTO:-0400
TZNAME:EDT
DTSTART:20170312T070000
END:DAYLIGHT
BEGIN:STANDARD
TZOFFSETFROM:-0400
TZOFFSETTO:-0500
TZNAME:EST
DTSTART:20171105T060000
END:STANDARD
BEGIN:DAYLIGHT
TZOFFSETFROM:-0500
TZOFFSETTO:-0400
TZNAME:EDT
DTSTART:20180311T070000
END:DAYLIGHT
BEGIN:STANDARD
TZOFFSETFROM:-0400
TZOFFSETTO:-0500
TZNAME:EST
DTSTART:20181104T060000
END:STANDARD
BEGIN:DAYLIGHT
TZOFFSETFROM:-0500
TZOFFSETTO:-0400
TZNAME:EDT
DTSTART:20190310T070000
END:DAYLIGHT
BEGIN:STANDARD
TZOFFSETFROM:-0400
TZOFFSETTO:-0500
TZNAME:EST
DTSTART:20191103T060000
END:STANDARD
BEGIN:DAYLIGHT
TZOFFSETFROM:-0500
TZOFFSETTO:-0400
TZNAME:EDT
DTSTART:20200308T070000
END:DAYLIGHT
BEGIN:STANDARD
TZOFFSETFROM:-0400
TZOFFSETTO:-0500
TZNAME:EST
DTSTART:20201101T060000
END:STANDARD
BEGIN:DAYLIGHT
TZOFFSETFROM:-0500
TZOFFSETTO:-0400
TZNAME:EDT
DTSTART:20210314T070000
END:DAYLIGHT
BEGIN:STANDARD
TZOFFSETFROM:-0400
TZOFFSETTO:-0500
TZNAME:EST
DTSTART:20211107T060000
END:STANDARD
BEGIN:DAYLIGHT
TZOFFSETFROM:-0500
TZOFFSETTO:-0400
TZNAME:EDT
DTSTART:20220313T070000
END:DAYLIGHT
BEGIN:STANDARD
TZOFFSETFROM:-0400
TZOFFSETTO:-0500
TZNAME:EST
DTSTART:20221106T060000
END:STANDARD
BEGIN:DAYLIGHT
TZOFFSETFROM:-0500
TZOFFSETTO:-0400
TZNAME:EDT
DTSTART:20230312T070000
END:DAYLIGHT
BEGIN:STANDARD
TZOFFSETFROM:-0400
TZOFFSETTO:-0500
TZNAME:EST
DTSTART:20231105T060000
END:STANDARD
BEGIN:DAYLIGHT
TZOFFSETFROM:-0500
TZOFFSETTO:-0400
TZNAME:EDT
DTSTART:20240310T070000
END:DAYLIGHT
BEGIN:STANDARD
TZOFFSETFROM:-0400
TZOFFSETTO:-0500
TZNAME:EST
DTSTART:20241103T060000
END:STANDARD
BEGIN:DAYLIGHT
TZOFFSETFROM:-0500
TZOFFSETTO:-0400
TZNAME:EDT
DTSTART:20250309T070000
END:DAYLIGHT
BEGIN:STANDARD
TZOFFSETFROM:-0400
TZOFFSETTO:-0500
TZNAME:EST
DTSTART:20251102T060000
END:STANDARD
END:VTIMEZONE
BEGIN:VEVENT
DTSTART;TZID=America/New_York:20240310T190000
DTEND;TZID=America/New_York:20240310T233000
DTSTAMP:20260425T064305
CREATED:20240119T074754Z
LAST-MODIFIED:20240119T074756Z
UID:10960-1710097200-1710113400@undefinablevision.com
SUMMARY:THE OSCARS®
DESCRIPTION:Tweet\n\n\n\nThe 96th Oscars® will air live coast to coast on Sunday\, March 10th\, 2024 on ABC.\n\n\n\n“The Oscars®” will air live coast to coast on SUNDAY\, MARCH 10\, on ABC in a new earlier timeslot (7:00-10:30 p.m. EDT). A 30-minute pre-show will lead into the live show starting at 6:30 p.m. EDT\, and immediately following\, ABC will air an original episode of the Emmy® Award-winning comedy series “Abbott Elementary.” \n\n\n\nEmmy Award-winning late-night talk show host and producer Jimmy Kimmel will return to host the live show for the fourth time. \n\n\n\nThe 96th Oscars will be held at the Dolby® Theatre at Ovation Hollywood and will be televised live on ABC and in more than 200 territories worldwide. \n\n\n\n\n\n\n\n\n\n\n\n\n\n\n\n\nLike this! Share the love 🙂Tweet\n				Share on WhatsApp (Opens in new window)\n				WhatsApp\n			Share on TumblrLike this:Like Loading...
URL:https://undefinablevision.com/events/the-oscars
LOCATION:Dolby® Theatre at Ovation Hollywood\, 6801 Hollywood Blvd\, Hollywood\, California\, 90028\, United States
CATEGORIES:TV Show
END:VEVENT
BEGIN:VEVENT
DTSTART;TZID=America/New_York:20240119T193000
DTEND;TZID=America/New_York:20240119T200000
DTSTAMP:20260425T064305
CREATED:20240119T062748Z
LAST-MODIFIED:20240119T063238Z
UID:10955-1705692600-1705694400@undefinablevision.com
SUMMARY:Live Stream
DESCRIPTION:Tweet\n \nWatch Undefinable Vision TV Fridays in HD at 7:30 – 8:00 PM ET on BronxNet BX Arts Channel – Optimum Ch 68 & Verizon Fios 2134 \n  \nLike this! Share the love 🙂Tweet\n				Share on WhatsApp (Opens in new window)\n				WhatsApp\n			Share on TumblrLike this:Like Loading...
URL:https://undefinablevision.com/events/live-stream-01-19-24
LOCATION:BronxNet
CATEGORIES:TV Show
ATTACH;FMTTYPE=image/png:https://undefinablevision.com/wp-content/uploads/Watch-Undefinable-Vision-TV-in-HD_2-720x505.png
ORGANIZER;CN="Undefinable Vision":MAILTO:info@undefinablevision.com
END:VEVENT
BEGIN:VEVENT
DTSTART;TZID=America/New_York:20181123T193000
DTEND;TZID=America/New_York:20181123T203000
DTSTAMP:20260425T064305
CREATED:20181121T060215Z
LAST-MODIFIED:20181121T060215Z
UID:8855-1543001400-1543005000@undefinablevision.com
SUMMARY:Undefinable Vision TV Broadcast
DESCRIPTION:Tweet\nWatch Undefinable Vision TV Friday from 7:30 – 8:00 PM ET on Bronxnet BX Omni Channel 68 & Verizon Fios Channel 34 UndefinableVision.com or Bronxnet.org to watch the free live stream from anywhere.\n﻿ \nLike this! Share the love 🙂Tweet\n				Share on WhatsApp (Opens in new window)\n				WhatsApp\n			Share on TumblrLike this:Like Loading...
URL:https://undefinablevision.com/events/undefinable-vision-tv-broadcast
LOCATION:California
CATEGORIES:TV Show
ATTACH;FMTTYPE=image/png:https://undefinablevision.com/wp-content/uploads/Watch-Undefinable-Vision-TV-in-HD_2-720x505.png
END:VEVENT
END:VCALENDAR