BEGIN:VCALENDAR
VERSION:2.0
PRODID:-//Undefinable Vision TV - ECPv6.15.17.1//NONSGML v1.0//EN
CALSCALE:GREGORIAN
METHOD:PUBLISH
X-ORIGINAL-URL:https://undefinablevision.com
X-WR-CALDESC:Events for Undefinable Vision TV
REFRESH-INTERVAL;VALUE=DURATION:PT1H
X-Robots-Tag:noindex
X-PUBLISHED-TTL:PT1H
BEGIN:VTIMEZONE
TZID:America/New_York
BEGIN:DAYLIGHT
TZOFFSETFROM:-0500
TZOFFSETTO:-0400
TZNAME:EDT
DTSTART:20170312T070000
END:DAYLIGHT
BEGIN:STANDARD
TZOFFSETFROM:-0400
TZOFFSETTO:-0500
TZNAME:EST
DTSTART:20171105T060000
END:STANDARD
BEGIN:DAYLIGHT
TZOFFSETFROM:-0500
TZOFFSETTO:-0400
TZNAME:EDT
DTSTART:20180311T070000
END:DAYLIGHT
BEGIN:STANDARD
TZOFFSETFROM:-0400
TZOFFSETTO:-0500
TZNAME:EST
DTSTART:20181104T060000
END:STANDARD
BEGIN:DAYLIGHT
TZOFFSETFROM:-0500
TZOFFSETTO:-0400
TZNAME:EDT
DTSTART:20190310T070000
END:DAYLIGHT
BEGIN:STANDARD
TZOFFSETFROM:-0400
TZOFFSETTO:-0500
TZNAME:EST
DTSTART:20191103T060000
END:STANDARD
END:VTIMEZONE
BEGIN:VEVENT
DTSTART;TZID=America/New_York:20181208T180000
DTEND;TZID=America/New_York:20181208T180000
DTSTAMP:20260423T191238
CREATED:20181206T030051Z
LAST-MODIFIED:20181206T041738Z
UID:8873-1544292000-1544292000@undefinablevision.com
SUMMARY:Caribbean Comedy Fest with Majah Hype during Art Basel Weekend
DESCRIPTION:Tweet\nLaugh during Art Basel Weekend\nWith Majah Hype\n\n\n \nMajah Hype’s heading to Florida for the Caribbean Comedy Fest and he’s planning on bringing nothing but laughter to South Florida. On Saturday\, December 8th\, 2018 The Are you Dumb? Tour features lots of Caribbean comedy favorites personalities such as Mitzy\, Di Rass\, Bobby Bunz\, and so many more! \n \nLike this! Share the love 🙂Tweet\n				Share on WhatsApp (Opens in new window)\n				WhatsApp\n			Share on TumblrLike this:Like Loading...
URL:https://undefinablevision.com/events/caribbean-comedy-fest-art-basel
LOCATION:Charles F Dodge City Center\, 601 City Center Way\, Pembroke Pines\, FL\, United States
CATEGORIES:Comedy Show
ATTACH;FMTTYPE=image/jpeg:https://undefinablevision.com/wp-content/uploads/Majah-Hype-Undefinable-Vision-TV-fi.jpg
END:VEVENT
END:VCALENDAR